BEGIN:VCALENDAR
VERSION:2.0
CALSCALE:GREGORIAN
PRODID:-//Diputació de Barcelona//DibaCMS//EN
BEGIN:VEVENT
UID:28724
DTSTAMP:20260426T025945
DTSTART:20260127T171500
DTEND:20260127T171500
SUMMARY:Xerrada d'Open Arms
LOCATION:Zona Esportiva, s/n 08140 Caldes de Montbui
METHOD:PUBLISH
X-WR-CALNAME:caldesm@caldesdemontbui.cat
X-WR-TIMEZONE:Europe/Madrid
DESCRIPTION:
URI:https://www.caldesdemontbui.cat/actualitat/agenda/xerrada-dopen-arms.html
CLASS:PUBLIC
END:VEVENT
END:VCALENDAR
