BEGIN:VCALENDAR
VERSION:2.0
CALSCALE:GREGORIAN
PRODID:-//Diputació de Barcelona//DibaCMS//EN
BEGIN:VEVENT
UID:28213
DTSTAMP:20260420T101906
DTSTART:20250923T190000
DTEND:20250923T190000
SUMMARY:Presentació de la programació del primer trimestre i conferència conjunta "Aules i Ara caldes"
LOCATION:Carrer del Pont, 3 08140 Caldes de Montbui
METHOD:PUBLISH
X-WR-CALNAME:caldesm@caldesdemontbui.cat
X-WR-TIMEZONE:Europe/Madrid
DESCRIPTION:
URI:https://www.caldesdemontbui.cat/actualitat/agenda/presentacio-de-la-programacio-del-primer-trimestre-i-conferencia-conjunta-aules-i-ara-caldes.html
CLASS:PUBLIC
END:VEVENT
END:VCALENDAR
