BEGIN:VCALENDAR
VERSION:2.0
CALSCALE:GREGORIAN
PRODID:-//Diputació de Barcelona//DibaCMS//EN
BEGIN:VEVENT
UID:28138
DTSTAMP:20260421T134444
DTSTART:20250911T110000
DTEND:20250911T110000
SUMMARY:Diada Nacional de Catalunya: Acte Institucional
LOCATION:
METHOD:PUBLISH
X-WR-CALNAME:caldesm@caldesdemontbui.cat
X-WR-TIMEZONE:Europe/Madrid
DESCRIPTION:
URI:https://www.caldesdemontbui.cat/actualitat/agenda/28138-diada-nacional-de-catalunya-acte-institucional.html
CLASS:PUBLIC
END:VEVENT
END:VCALENDAR
