BEGIN:VCALENDAR
VERSION:2.0
CALSCALE:GREGORIAN
PRODID:-//Diputació de Barcelona//DibaCMS//EN
BEGIN:VEVENT
UID:27817
DTSTAMP:20260422T174221
DTSTART:20250515T183000
DTEND:20250515T183000
SUMMARY:Dijous de conte “Kalòpsia, un planeta no tan diferent” 
LOCATION:Santa Teresa, 3-5 08140 Caldes de Montbui
METHOD:PUBLISH
X-WR-CALNAME:caldesm@caldesdemontbui.cat
X-WR-TIMEZONE:Europe/Madrid
DESCRIPTION:
URI:https://www.caldesdemontbui.cat/actualitat/agenda/dijous-de-conte-kalopsia-un-planeta-no-tan-diferent-.html
CLASS:PUBLIC
END:VEVENT
END:VCALENDAR
