BEGIN:VCALENDAR
VERSION:2.0
CALSCALE:GREGORIAN
PRODID:-//Diputació de Barcelona//DibaCMS//EN
BEGIN:VEVENT
UID:27795
DTSTAMP:20260421T052335
DTSTART:20250425T000000
DTEND:20250425T000000
SUMMARY:Xerrada "Hidratació conscient. Saps qunia aigua estàs bevent?"
LOCATION:C. de Font i Boet 7 8140 Caldes de Montbui
METHOD:PUBLISH
X-WR-CALNAME:caldesm@caldesdemontbui.cat
X-WR-TIMEZONE:Europe/Madrid
DESCRIPTION:
URI:https://www.caldesdemontbui.cat/actualitat/agenda/xerrada-hidratacio-conscient-saps-qunia-aigua-estas-bevent.html
CLASS:PUBLIC
END:VEVENT
END:VCALENDAR
