BEGIN:VCALENDAR
VERSION:2.0
CALSCALE:GREGORIAN
PRODID:-//Diputació de Barcelona//DibaCMS//EN
BEGIN:VEVENT
UID:27787
DTSTAMP:20260420T115720
DTSTART:20250429T183000
DTEND:20250429T183000
SUMMARY:El documental del mes d’abril de la Biblioteca de Caldes de Montbui és “Fragments d’una biografia amorosa”
LOCATION:Santa Teresa, 3-5 08140 Caldes de Montbui
METHOD:PUBLISH
X-WR-CALNAME:caldesm@caldesdemontbui.cat
X-WR-TIMEZONE:Europe/Madrid
DESCRIPTION:
URI:https://www.caldesdemontbui.cat/actualitat/agenda/el-documental-del-mes-dabril-de-la-biblioteca-de-caldes-de-montbui-es-fragments-duna-biografia-amorosa.html
CLASS:PUBLIC
END:VEVENT
END:VCALENDAR
