BEGIN:VCALENDAR
VERSION:2.0
CALSCALE:GREGORIAN
PRODID:-//Diputació de Barcelona//DibaCMS//EN
BEGIN:VEVENT
UID:27773
DTSTAMP:20260420T115451
DTSTART:20250501T163000
DTEND:20250501T180000
SUMMARY:Aplec de Sant Sebastià 2025 | Concert amb Marc Xalabarder i Aladrocks
LOCATION:
METHOD:PUBLISH
X-WR-CALNAME:caldesm@caldesdemontbui.cat
X-WR-TIMEZONE:Europe/Madrid
DESCRIPTION:
URI:https://www.caldesdemontbui.cat/actualitat/agenda/aplec-de-sant-sebastia-2025--concert-amb-marc-xalabarder-i-aladrocks.html
CLASS:PUBLIC
END:VEVENT
END:VCALENDAR
