BEGIN:VCALENDAR
VERSION:2.0
CALSCALE:GREGORIAN
PRODID:-//Diputació de Barcelona//DibaCMS//EN
BEGIN:VEVENT
UID:27725
DTSTAMP:20260420T133239
DTSTART:20250423T160000
DTEND:20250423T160000
SUMMARY:Sant Jordi 2025. Ballant per Sant Jordi
LOCATION:Plaça de Catalunya 
METHOD:PUBLISH
X-WR-CALNAME:caldesm@caldesdemontbui.cat
X-WR-TIMEZONE:Europe/Madrid
DESCRIPTION:
URI:https://www.caldesdemontbui.cat/actualitat/agenda/sant-jordi-2025-ballant-per-sant-jordi.html
CLASS:PUBLIC
END:VEVENT
END:VCALENDAR
