BEGIN:VCALENDAR
VERSION:2.0
CALSCALE:GREGORIAN
PRODID:-//Diputació de Barcelona//DibaCMS//EN
BEGIN:VEVENT
UID:27710
DTSTAMP:20260420T115409
DTSTART:20250408T110000
DTEND:20250425T210000
SUMMARY:Exposició "Foto-Síntesi" de "Cor Fotogràfic"
LOCATION: Corredossos de Baix, 9-11 (antic 1) 8140 Caldes de Montbui
METHOD:PUBLISH
X-WR-CALNAME:caldesm@caldesdemontbui.cat
X-WR-TIMEZONE:Europe/Madrid
DESCRIPTION:
URI:https://www.caldesdemontbui.cat/actualitat/agenda/exposicio-foto-sintesi-de-cor-fotografic.html
CLASS:PUBLIC
END:VEVENT
END:VCALENDAR
