BEGIN:VCALENDAR
VERSION:2.0
CALSCALE:GREGORIAN
PRODID:-//Diputació de Barcelona//DibaCMS//EN
BEGIN:VEVENT
UID:27696
DTSTAMP:20260422T123040
DTSTART:20250411T170000
DTEND:20250411T170000
SUMMARY:Activitat intergeneracional amb avis/àvies i nets/es
LOCATION:C. Mestre Gregori Montserrat, 4 08140 Caldes de Montbui
METHOD:PUBLISH
X-WR-CALNAME:caldesm@caldesdemontbui.cat
X-WR-TIMEZONE:Europe/Madrid
DESCRIPTION:
URI:https://www.caldesdemontbui.cat/actualitat/agenda/activitat-intergeneracional-amb-avisavies-i-netses.html
CLASS:PUBLIC
END:VEVENT
END:VCALENDAR
