BEGIN:VCALENDAR
VERSION:2.0
CALSCALE:GREGORIAN
PRODID:-//Diputació de Barcelona//DibaCMS//EN
BEGIN:VEVENT
UID:27694
DTSTAMP:20260420T201243
DTSTART:20250409T090000
DTEND:20250409T090000
SUMMARY:Caminada a la Borda i El Negrell
LOCATION:
METHOD:PUBLISH
X-WR-CALNAME:caldesm@caldesdemontbui.cat
X-WR-TIMEZONE:Europe/Madrid
DESCRIPTION:
URI:https://www.caldesdemontbui.cat/actualitat/agenda/27694-caminada-a-la-borda-i-el-negrell.html
CLASS:PUBLIC
END:VEVENT
END:VCALENDAR
