BEGIN:VCALENDAR
VERSION:2.0
CALSCALE:GREGORIAN
PRODID:-//Diputació de Barcelona//DibaCMS//EN
BEGIN:VEVENT
UID:27689
DTSTAMP:20260420T133045
DTSTART:20250409T170000
DTEND:20250409T170000
SUMMARY:Xerrada "Vacances en pau"
LOCATION:Zona Esportiva, s/n 08140 Caldes de Montbui
METHOD:PUBLISH
X-WR-CALNAME:caldesm@caldesdemontbui.cat
X-WR-TIMEZONE:Europe/Madrid
DESCRIPTION:El programa d'acollida d'infants Sahrauís i la situació actual del Poble Sahrauí

URI:https://www.caldesdemontbui.cat/actualitat/agenda/xerrada-vacances-en-pau.html
CLASS:PUBLIC
END:VEVENT
END:VCALENDAR
