BEGIN:VCALENDAR
VERSION:2.0
CALSCALE:GREGORIAN
PRODID:-//Diputació de Barcelona//DibaCMS//EN
BEGIN:VEVENT
UID:27678
DTSTAMP:20260420T115645
DTSTART:20250411T173000
DTEND:20250411T173000
SUMMARY:Narració de contes per a petits lectors. Petits, petits: “Us diré un secret molt fi”
LOCATION:Santa Teresa, 3-5 08140 Caldes de Montbui
METHOD:PUBLISH
X-WR-CALNAME:caldesm@caldesdemontbui.cat
X-WR-TIMEZONE:Europe/Madrid
DESCRIPTION:
URI:https://www.caldesdemontbui.cat/actualitat/agenda/narracio-de-contes-per-a-petits-lectors-petits-petits-us-dire-un-secret-molt-fi.html
CLASS:PUBLIC
END:VEVENT
END:VCALENDAR
