BEGIN:VCALENDAR
VERSION:2.0
CALSCALE:GREGORIAN
PRODID:-//Diputació de Barcelona//DibaCMS//EN
BEGIN:VEVENT
UID:27674
DTSTAMP:20260420T115853
DTSTART:20250403T183000
DTEND:20250403T183000
SUMMARY:Presentació del llibre 'Els pergamins del castell de Bellparlar' de Montserrat Feliu
LOCATION:Santa Teresa, 3-5 08140 Caldes de Montbui
METHOD:PUBLISH
X-WR-CALNAME:caldesm@caldesdemontbui.cat
X-WR-TIMEZONE:Europe/Madrid
DESCRIPTION:
URI:https://www.caldesdemontbui.cat/actualitat/agenda/presentacio-del-llibre-els-pergamins-del-castell-de-bellparlar-de-montserrat-feliu.html
CLASS:PUBLIC
END:VEVENT
END:VCALENDAR
