BEGIN:VCALENDAR
VERSION:2.0
CALSCALE:GREGORIAN
PRODID:-//Diputació de Barcelona//DibaCMS//EN
BEGIN:VEVENT
UID:27667
DTSTAMP:20260420T214431
DTSTART:20250327T190000
DTEND:20250327T190000
SUMMARY:Les dones compositores al llarg de la història
LOCATION: Corredossos de Baix, 9-11 (antic 1) 8140 Caldes de Montbui
METHOD:PUBLISH
X-WR-CALNAME:caldesm@caldesdemontbui.cat
X-WR-TIMEZONE:Europe/Madrid
DESCRIPTION:
URI:https://www.caldesdemontbui.cat/actualitat/agenda/les-dones-compositores-al-llarg-de-la-historia.html
CLASS:PUBLIC
END:VEVENT
END:VCALENDAR
