BEGIN:VCALENDAR
VERSION:2.0
CALSCALE:GREGORIAN
PRODID:-//Diputació de Barcelona//DibaCMS//EN
BEGIN:VEVENT
UID:27658
DTSTAMP:20260420T134105
DTSTART:20250404T170000
DTEND:20250404T193000
SUMMARY:Exposició "La mirada d’Arts&Foto", del 28 de març al 13 d’abril, a la Sala Delger 
LOCATION:Carrer del Forn, 8bis 08140 Caldes de Montbui
METHOD:PUBLISH
X-WR-CALNAME:caldesm@caldesdemontbui.cat
X-WR-TIMEZONE:Europe/Madrid
DESCRIPTION:
URI:https://www.caldesdemontbui.cat/actualitat/agenda/exposicio-la-mirada-dartsandfoto-del-28-de-marc-al-13-dabril-a-la-sala-delger-.html
CLASS:PUBLIC
END:VEVENT
END:VCALENDAR
