BEGIN:VCALENDAR
VERSION:2.0
CALSCALE:GREGORIAN
PRODID:-//Diputació de Barcelona//DibaCMS//EN
BEGIN:VEVENT
UID:27645
DTSTAMP:20260420T232213
DTSTART:20250401T080000
DTEND:20250401T130000
SUMMARY:Deixalleria mòbil 
LOCATION:Aparcement del carrer d'Escoles Pies 
METHOD:PUBLISH
X-WR-CALNAME:caldesm@caldesdemontbui.cat
X-WR-TIMEZONE:Europe/Madrid
DESCRIPTION:
URI:https://www.caldesdemontbui.cat/actualitat/agenda/27645-deixalleria-mobil-.html
CLASS:PUBLIC
END:VEVENT
END:VCALENDAR
