BEGIN:VCALENDAR
VERSION:2.0
CALSCALE:GREGORIAN
PRODID:-//Diputació de Barcelona//DibaCMS//EN
BEGIN:VEVENT
UID:27643
DTSTAMP:20260421T032759
DTSTART:20250323T110000
DTEND:20250323T130000
SUMMARY:Diada Bastonera
LOCATION:Consulteu el reccoregut de la cercavila. En cas de pluja es farà a Les Cases dels Mestres 
METHOD:PUBLISH
X-WR-CALNAME:caldesm@caldesdemontbui.cat
X-WR-TIMEZONE:Europe/Madrid
DESCRIPTION:
URI:https://www.caldesdemontbui.cat/actualitat/agenda/diada-bastonera.html
CLASS:PUBLIC
END:VEVENT
END:VCALENDAR
