BEGIN:VCALENDAR
VERSION:2.0
CALSCALE:GREGORIAN
PRODID:-//Diputació de Barcelona//DibaCMS//EN
BEGIN:VEVENT
UID:27634
DTSTAMP:20260421T035114
DTSTART:20250322T100000
DTEND:20250322T100000
SUMMARY:Jornada de lliga catalana de Touch
LOCATION:Zona Esportiva Les Cremades 08140 Caldes de Montbui
METHOD:PUBLISH
X-WR-CALNAME:caldesm@caldesdemontbui.cat
X-WR-TIMEZONE:Europe/Madrid
DESCRIPTION:
URI:https://www.caldesdemontbui.cat/actualitat/agenda/27634-jornada-de-lliga-catalana-de-touch.html
CLASS:PUBLIC
END:VEVENT
END:VCALENDAR
