BEGIN:VCALENDAR
VERSION:2.0
CALSCALE:GREGORIAN
PRODID:-//Diputació de Barcelona//DibaCMS//EN
BEGIN:VEVENT
UID:27633
DTSTAMP:20260421T050819
DTSTART:20250322T113000
DTEND:20250322T113000
SUMMARY:Itinerari "La Guerra Civil a Caldes de Montbui"
LOCATION:
METHOD:PUBLISH
X-WR-CALNAME:caldesm@caldesdemontbui.cat
X-WR-TIMEZONE:Europe/Madrid
DESCRIPTION:
URI:https://www.caldesdemontbui.cat/actualitat/agenda/itinerari-la-guerra-civil-a-caldes-de-montbui.html
CLASS:PUBLIC
END:VEVENT
END:VCALENDAR
