BEGIN:VCALENDAR
VERSION:2.0
CALSCALE:GREGORIAN
PRODID:-//Diputació de Barcelona//DibaCMS//EN
BEGIN:VEVENT
UID:27624
DTSTAMP:20260420T133422
DTSTART:20250402T173000
DTEND:20250402T190000
SUMMARY:Jornada de portes obertes a l’Escola Municipal de Música Joan Valls 
LOCATION:Buenos Aires, 16 08140 Caldes de Montbui
METHOD:PUBLISH
X-WR-CALNAME:caldesm@caldesdemontbui.cat
X-WR-TIMEZONE:Europe/Madrid
DESCRIPTION:
URI:https://www.caldesdemontbui.cat/actualitat/agenda/jornada-de-portes-obertes-a-lescola-municipal-de-musica-joan-valls-.html
CLASS:PUBLIC
END:VEVENT
END:VCALENDAR
