BEGIN:VCALENDAR
VERSION:2.0
CALSCALE:GREGORIAN
PRODID:-//Diputació de Barcelona//DibaCMS//EN
BEGIN:VEVENT
UID:27623
DTSTAMP:20260420T133554
DTSTART:20250401T181500
DTEND:20250401T203000
SUMMARY:Jornada de portes obertes a l’Escola Municipal de Música Joan Valls
LOCATION:Buenos Aires, 16 08140 Caldes de Montbui
METHOD:PUBLISH
X-WR-CALNAME:caldesm@caldesdemontbui.cat
X-WR-TIMEZONE:Europe/Madrid
DESCRIPTION:
URI:https://www.caldesdemontbui.cat/actualitat/agenda/27623-jornada-de-portes-obertes-a-lescola-municipal-de-musica-joan-valls.html
CLASS:PUBLIC
END:VEVENT
END:VCALENDAR
