BEGIN:VCALENDAR
VERSION:2.0
CALSCALE:GREGORIAN
PRODID:-//Diputació de Barcelona//DibaCMS//EN
BEGIN:VEVENT
UID:27620
DTSTAMP:20260420T115338
DTSTART:20250327T183000
DTEND:20250327T183000
SUMMARY:Presentació del llibre 'Dones i música' de Sandra Soler
LOCATION:Santa Teresa, 3-5 08140 Caldes de Montbui
METHOD:PUBLISH
X-WR-CALNAME:caldesm@caldesdemontbui.cat
X-WR-TIMEZONE:Europe/Madrid
DESCRIPTION:
URI:https://www.caldesdemontbui.cat/actualitat/agenda/presentacio-del-llibre-dones-i-musica-de-sandra-soler.html
CLASS:PUBLIC
END:VEVENT
END:VCALENDAR
