BEGIN:VCALENDAR
VERSION:2.0
CALSCALE:GREGORIAN
PRODID:-//Diputació de Barcelona//DibaCMS//EN
BEGIN:VEVENT
UID:27600
DTSTAMP:20260421T020940
DTSTART:20250318T100000
DTEND:20250318T133000
SUMMARY:La revisteria de ruta pel vallès
LOCATION:Pl. de l'Àngel 
METHOD:PUBLISH
X-WR-CALNAME:caldesm@caldesdemontbui.cat
X-WR-TIMEZONE:Europe/Madrid
DESCRIPTION:
URI:https://www.caldesdemontbui.cat/actualitat/agenda/la-revisteria-de-ruta-pel-valles.html
CLASS:PUBLIC
END:VEVENT
END:VCALENDAR
