BEGIN:VCALENDAR
VERSION:2.0
CALSCALE:GREGORIAN
PRODID:-//Diputació de Barcelona//DibaCMS//EN
BEGIN:VEVENT
UID:27594
DTSTAMP:20260420T230847
DTSTART:20250316T120000
DTEND:20250316T120000
SUMMARY:Mercat de l'Olla 2025. Espectacle infantil i familiar (animació)
LOCATION:Plaça de Can Rius 
METHOD:PUBLISH
X-WR-CALNAME:caldesm@caldesdemontbui.cat
X-WR-TIMEZONE:Europe/Madrid
DESCRIPTION:
URI:https://www.caldesdemontbui.cat/actualitat/agenda/mercat-de-lolla-2025-espectacle-infantil-i-familiar-animacio.html
CLASS:PUBLIC
END:VEVENT
END:VCALENDAR
