BEGIN:VCALENDAR
VERSION:2.0
CALSCALE:GREGORIAN
PRODID:-//Diputació de Barcelona//DibaCMS//EN
BEGIN:VEVENT
UID:27591
DTSTAMP:20260420T214604
DTSTART:20250315T100000
DTEND:20250315T140000
SUMMARY:Mercat de l'Olla 2025. Tallers i jocs tradicionals 
LOCATION:Plaça de Can Rius 
METHOD:PUBLISH
X-WR-CALNAME:caldesm@caldesdemontbui.cat
X-WR-TIMEZONE:Europe/Madrid
DESCRIPTION:
URI:https://www.caldesdemontbui.cat/actualitat/agenda/mercat-de-lolla-2025-tallers-i-jocs-tradicionals-.html
CLASS:PUBLIC
END:VEVENT
END:VCALENDAR
