BEGIN:VCALENDAR
VERSION:2.0
CALSCALE:GREGORIAN
PRODID:-//Diputació de Barcelona//DibaCMS//EN
BEGIN:VEVENT
UID:27580
DTSTAMP:20260420T201202
DTSTART:20250315T163000
DTEND:20250315T163000
SUMMARY:Cinema del Centre: El 47
LOCATION:
METHOD:PUBLISH
X-WR-CALNAME:caldesm@caldesdemontbui.cat
X-WR-TIMEZONE:Europe/Madrid
DESCRIPTION:
URI:https://www.caldesdemontbui.cat/actualitat/agenda/cinema-del-centre-el-47.html
CLASS:PUBLIC
END:VEVENT
END:VCALENDAR
