BEGIN:VCALENDAR
VERSION:2.0
CALSCALE:GREGORIAN
PRODID:-//Diputació de Barcelona//DibaCMS//EN
BEGIN:VEVENT
UID:27570
DTSTAMP:20260420T143225
DTSTART:20250328T161500
DTEND:20250328T161500
SUMMARY:Vine a la festa: contes d'havaneres amb la Lali
LOCATION:
METHOD:PUBLISH
X-WR-CALNAME:caldesm@caldesdemontbui.cat
X-WR-TIMEZONE:Europe/Madrid
DESCRIPTION:
URI:https://www.caldesdemontbui.cat/actualitat/agenda/vine-a-la-festa-contes-dhavaneres-amb-la-lali.html
CLASS:PUBLIC
END:VEVENT
END:VCALENDAR
