BEGIN:VCALENDAR
VERSION:2.0
CALSCALE:GREGORIAN
PRODID:-//Diputació de Barcelona//DibaCMS//EN
BEGIN:VEVENT
UID:27560
DTSTAMP:20260420T170830
DTSTART:20250312T090000
DTEND:20250312T090000
SUMMARY:Caminada a la Font dels Enamorats i Els Saulons
LOCATION:Plaça de Catalunya 
METHOD:PUBLISH
X-WR-CALNAME:caldesm@caldesdemontbui.cat
X-WR-TIMEZONE:Europe/Madrid
DESCRIPTION:
URI:https://www.caldesdemontbui.cat/actualitat/agenda/27560-caminada-a-la-font-dels-enamorats-i-els-saulons.html
CLASS:PUBLIC
END:VEVENT
END:VCALENDAR
