BEGIN:VCALENDAR
VERSION:2.0
CALSCALE:GREGORIAN
PRODID:-//Diputació de Barcelona//DibaCMS//EN
BEGIN:VEVENT
UID:27549
DTSTAMP:20260421T024409
DTSTART:20250318T183000
DTEND:20250318T183000
SUMMARY:8M. Tertúlia del Club de lectura Maria Moliner 'Amor i no' d'Alba Dalmau
LOCATION:Santa Teresa, 3-5 08140 Caldes de Montbui
METHOD:PUBLISH
X-WR-CALNAME:caldesm@caldesdemontbui.cat
X-WR-TIMEZONE:Europe/Madrid
DESCRIPTION:
URI:https://www.caldesdemontbui.cat/actualitat/agenda/8m-tertulia-del-club-de-lectura-maria-moliner-amor-i-no-dalba-dalmau.html
CLASS:PUBLIC
END:VEVENT
END:VCALENDAR
