BEGIN:VCALENDAR
VERSION:2.0
CALSCALE:GREGORIAN
PRODID:-//Diputació de Barcelona//DibaCMS//EN
BEGIN:VEVENT
UID:27535
DTSTAMP:20260420T174035
DTSTART:20250302T173000
DTEND:20250302T173000
SUMMARY:Ball de Carnestoltes
LOCATION:C. Mestre Gregori Montserrat, 4 08140 Caldes de Montbui
METHOD:PUBLISH
X-WR-CALNAME:caldesm@caldesdemontbui.cat
X-WR-TIMEZONE:Europe/Madrid
DESCRIPTION:
URI:https://www.caldesdemontbui.cat/actualitat/agenda/27535-ball-de-carnestoltes.html
CLASS:PUBLIC
END:VEVENT
END:VCALENDAR
