BEGIN:VCALENDAR
VERSION:2.0
CALSCALE:GREGORIAN
PRODID:-//Diputació de Barcelona//DibaCMS//EN
BEGIN:VEVENT
UID:27528
DTSTAMP:20260421T011040
DTSTART:20250305T174500
DTEND:20250305T174500
SUMMARY:Assaig obert de les orquestres infantil i juvenil per a les famílies de l’Escola de Música
LOCATION:
METHOD:PUBLISH
X-WR-CALNAME:caldesm@caldesdemontbui.cat
X-WR-TIMEZONE:Europe/Madrid
DESCRIPTION:
URI:https://www.caldesdemontbui.cat/actualitat/agenda/assaig-obert-de-les-orquestres-infantil-i-juvenil-per-a-les-families-de-lescola-de-musica.html
CLASS:PUBLIC
END:VEVENT
END:VCALENDAR
