BEGIN:VCALENDAR
VERSION:2.0
CALSCALE:GREGORIAN
PRODID:-//Diputació de Barcelona//DibaCMS//EN
BEGIN:VEVENT
UID:27525
DTSTAMP:20260421T023201
DTSTART:20250306T193000
DTEND:20250326T210000
SUMMARY:Exposició "Temps i emocions. Vencem l'Alzheimer" de Marga Pérez
LOCATION: Corredossos de Baix, 9-11 (antic 1) 8140 Caldes de Montbui
METHOD:PUBLISH
X-WR-CALNAME:caldesm@caldesdemontbui.cat
X-WR-TIMEZONE:Europe/Madrid
DESCRIPTION:
URI:https://www.caldesdemontbui.cat/actualitat/agenda/exposicio-temps-i-emocions-vencem-lalzheimer-de-marga-perez.html
CLASS:PUBLIC
END:VEVENT
END:VCALENDAR
