BEGIN:VCALENDAR
VERSION:2.0
CALSCALE:GREGORIAN
PRODID:-//Diputació de Barcelona//DibaCMS//EN
BEGIN:VEVENT
UID:27523
DTSTAMP:20260420T230947
DTSTART:20250309T100000
DTEND:20250309T140000
SUMMARY:Campanya de donació de sang. Els bombers i les bomberes t'acompanyen a donar sang 
LOCATION:
METHOD:PUBLISH
X-WR-CALNAME:caldesm@caldesdemontbui.cat
X-WR-TIMEZONE:Europe/Madrid
DESCRIPTION:
URI:https://www.caldesdemontbui.cat/actualitat/agenda/27523-campanya-de-donacio-de-sang-els-bombers-i-les-bomberes-tacompanyen-a-donar-sang-.html
CLASS:PUBLIC
END:VEVENT
END:VCALENDAR
