BEGIN:VCALENDAR
VERSION:2.0
CALSCALE:GREGORIAN
PRODID:-//Diputació de Barcelona//DibaCMS//EN
BEGIN:VEVENT
UID:27486
DTSTAMP:20260420T201137
DTSTART:20250222T103000
DTEND:20250222T103000
SUMMARY:Curs 2025-2026. Portes Obertes a l'Institut Escola de Caldes
LOCATION:
METHOD:PUBLISH
X-WR-CALNAME:caldesm@caldesdemontbui.cat
X-WR-TIMEZONE:Europe/Madrid
DESCRIPTION:
URI:https://www.caldesdemontbui.cat/actualitat/agenda/curs-2025-2026-portes-obertes-a-linstitut-escola-de-caldes.html
CLASS:PUBLIC
END:VEVENT
END:VCALENDAR
