BEGIN:VCALENDAR
VERSION:2.0
CALSCALE:GREGORIAN
PRODID:-//Diputació de Barcelona//DibaCMS//EN
BEGIN:VEVENT
UID:27482
DTSTAMP:20260421T035900
DTSTART:20250222T100000
DTEND:20250222T130000
SUMMARY:Curs 2025-2026. Portes Obertes a l'Escola Pia
LOCATION:Infantil i Primària: Av. Josep Fontcuberta, 166 / ESO i Batxillerat: Av. Pi i Margall, 157 08140 Caldes de Montbui
METHOD:PUBLISH
X-WR-CALNAME:caldesm@caldesdemontbui.cat
X-WR-TIMEZONE:Europe/Madrid
DESCRIPTION:
URI:https://www.caldesdemontbui.cat/actualitat/agenda/curs-2025-2026-portes-obertes-a-lescola-pia.html
CLASS:PUBLIC
END:VEVENT
END:VCALENDAR
