BEGIN:VCALENDAR
VERSION:2.0
CALSCALE:GREGORIAN
PRODID:-//Diputació de Barcelona//DibaCMS//EN
BEGIN:VEVENT
UID:27475
DTSTAMP:20260420T201106
DTSTART:20250218T173000
DTEND:20250218T173000
SUMMARY:Curs 25-26. Xerrada informativa sobre el procés de preinscripció i matrícula.
LOCATION:Carrer del Pont, 3 08140 Caldes de Montbui
METHOD:PUBLISH
X-WR-CALNAME:caldesm@caldesdemontbui.cat
X-WR-TIMEZONE:Europe/Madrid
DESCRIPTION:
URI:https://www.caldesdemontbui.cat/actualitat/agenda/curs-25-26-xerrada-informativa-sobre-el-proces-de-preinscripcio-i-matricula.html
CLASS:PUBLIC
END:VEVENT
END:VCALENDAR
