BEGIN:VCALENDAR
VERSION:2.0
CALSCALE:GREGORIAN
PRODID:-//Diputació de Barcelona//DibaCMS//EN
BEGIN:VEVENT
UID:27453
DTSTAMP:20260420T170934
DTSTART:20250223T180000
DTEND:20250223T180000
SUMMARY:33è Concurs Taca'm. 'La criada de dues mestresses', de Carlo Goldoni
LOCATION: Corredossos de Baix, 9-11 (antic 1) 8140 Caldes de Montbui
METHOD:PUBLISH
X-WR-CALNAME:caldesm@caldesdemontbui.cat
X-WR-TIMEZONE:Europe/Madrid
DESCRIPTION:
URI:https://www.caldesdemontbui.cat/actualitat/agenda/33e-concurs-tacam-la-criada-de-dues-mestresses-de-carlo-goldoni.html
CLASS:PUBLIC
END:VEVENT
END:VCALENDAR
