BEGIN:VCALENDAR
VERSION:2.0
CALSCALE:GREGORIAN
PRODID:-//Diputació de Barcelona//DibaCMS//EN
BEGIN:VEVENT
UID:27452
DTSTAMP:20260420T212338
DTSTART:20250216T180000
DTEND:20250216T180000
SUMMARY:33è Concurs Taca'm. 'Pares normals' dels Amics de les Arts, Minoria Absoluta i Marc Artigau.
LOCATION: Corredossos de Baix, 9-11 (antic 1) 8140 Caldes de Montbui
METHOD:PUBLISH
X-WR-CALNAME:caldesm@caldesdemontbui.cat
X-WR-TIMEZONE:Europe/Madrid
DESCRIPTION:
URI:https://www.caldesdemontbui.cat/actualitat/agenda/33e-concurs-tacam-pares-normals-dels-amics-de-les-arts-minoria-absoluta-i-marc-artigau.html
CLASS:PUBLIC
END:VEVENT
END:VCALENDAR
