BEGIN:VCALENDAR
VERSION:2.0
CALSCALE:GREGORIAN
PRODID:-//Diputació de Barcelona//DibaCMS//EN
BEGIN:VEVENT
UID:27447
DTSTAMP:20260420T224944
DTSTART:20250216T100000
DTEND:20250216T140000
SUMMARY:Fira d’antiquaris i brocanters del mes de febrer
LOCATION:Av. Pi i Maragall 
METHOD:PUBLISH
X-WR-CALNAME:caldesm@caldesdemontbui.cat
X-WR-TIMEZONE:Europe/Madrid
DESCRIPTION:
URI:https://www.caldesdemontbui.cat/actualitat/agenda/27447-fira-dantiquaris-i-brocanters-del-mes-de-febrer.html
CLASS:PUBLIC
END:VEVENT
END:VCALENDAR
