BEGIN:VCALENDAR
VERSION:2.0
CALSCALE:GREGORIAN
PRODID:-//Diputació de Barcelona//DibaCMS//EN
BEGIN:VEVENT
UID:27442
DTSTAMP:20260420T211808
DTSTART:20250215T180000
DTEND:20250215T180000
SUMMARY:Cinema del Centre. Cicle Gaudí "Marco" 
LOCATION: Corredossos de Baix, 9-11 (antic 1) 8140 Caldes de Montbui
METHOD:PUBLISH
X-WR-CALNAME:caldesm@caldesdemontbui.cat
X-WR-TIMEZONE:Europe/Madrid
DESCRIPTION:
URI:https://www.caldesdemontbui.cat/actualitat/agenda/cinema-del-centre-cicle-gaudi-marco-.html
CLASS:PUBLIC
END:VEVENT
END:VCALENDAR
