BEGIN:VCALENDAR
VERSION:2.0
CALSCALE:GREGORIAN
PRODID:-//Diputació de Barcelona//DibaCMS//EN
BEGIN:VEVENT
UID:27441
DTSTAMP:20260421T052402
DTSTART:20250207T110000
DTEND:20250226T210000
SUMMARY:Exposició "Akelarre" de Meritxell Sedó, Isabel Pitarch i Sílvia Pitarch 
LOCATION: Corredossos de Baix, 9-11 (antic 1) 8140 Caldes de Montbui
METHOD:PUBLISH
X-WR-CALNAME:caldesm@caldesdemontbui.cat
X-WR-TIMEZONE:Europe/Madrid
DESCRIPTION:
URI:https://www.caldesdemontbui.cat/actualitat/agenda/exposicio-akelarre-de-meritxell-sedo-isabel-pitarch-i-silvia-pitarch-.html
CLASS:PUBLIC
END:VEVENT
END:VCALENDAR
