BEGIN:VCALENDAR
VERSION:2.0
CALSCALE:GREGORIAN
PRODID:-//Diputació de Barcelona//DibaCMS//EN
BEGIN:VEVENT
UID:27427
DTSTAMP:20260421T074505
DTSTART:20250224T161500
DTEND:20250224T161500
SUMMARY:Sevillanes a càrrec de la Colla de l'Esplai
LOCATION:
METHOD:PUBLISH
X-WR-CALNAME:caldesm@caldesdemontbui.cat
X-WR-TIMEZONE:Europe/Madrid
DESCRIPTION:
URI:https://www.caldesdemontbui.cat/actualitat/agenda/sevillanes-a-carrec-de-la-colla-de-lesplai.html
CLASS:PUBLIC
END:VEVENT
END:VCALENDAR
