BEGIN:VCALENDAR
VERSION:2.0
CALSCALE:GREGORIAN
PRODID:-//Diputació de Barcelona//DibaCMS//EN
BEGIN:VEVENT
UID:27392
DTSTAMP:20260421T020753
DTSTART:20250130T180000
DTEND:20250130T180000
SUMMARY:Xerrada -taller "El perdó. La importància del perdó per al benestar emocional"
LOCATION:C. de Font i Boet 7 8140 Caldes de Montbui
METHOD:PUBLISH
X-WR-CALNAME:caldesm@caldesdemontbui.cat
X-WR-TIMEZONE:Europe/Madrid
DESCRIPTION:
URI:https://www.caldesdemontbui.cat/actualitat/agenda/xerrada-taller-el-perdo-la-importancia-del-perdo-per-al-benestar-emocional.html
CLASS:PUBLIC
END:VEVENT
END:VCALENDAR
