BEGIN:VCALENDAR
VERSION:2.0
CALSCALE:GREGORIAN
PRODID:-//Diputació de Barcelona//DibaCMS//EN
BEGIN:VEVENT
UID:27374
DTSTAMP:20260420T212035
DTSTART:20250219T190000
DTEND:20250219T190000
SUMMARY:Conferència "Les veus de sota terra: la història de la fossa comuna de Montcada i Reixac" 
LOCATION:Carrer del Pont, 3 08140 Caldes de Montbui
METHOD:PUBLISH
X-WR-CALNAME:caldesm@caldesdemontbui.cat
X-WR-TIMEZONE:Europe/Madrid
DESCRIPTION:
URI:https://www.caldesdemontbui.cat/actualitat/agenda/conferencia-les-veus-de-sota-terra-la-historia-de-la-fossa-comuna-de-montcada-i-reixac-.html
CLASS:PUBLIC
END:VEVENT
END:VCALENDAR
