BEGIN:VCALENDAR
VERSION:2.0
CALSCALE:GREGORIAN
PRODID:-//Diputació de Barcelona//DibaCMS//EN
BEGIN:VEVENT
UID:27373
DTSTAMP:20260420T232415
DTSTART:20250205T190000
DTEND:20250205T190000
SUMMARY:Conferència "Com mirar una obra d'art" 
LOCATION:Carrer del Pont, 3 08140 Caldes de Montbui
METHOD:PUBLISH
X-WR-CALNAME:caldesm@caldesdemontbui.cat
X-WR-TIMEZONE:Europe/Madrid
DESCRIPTION:
URI:https://www.caldesdemontbui.cat/actualitat/agenda/conferencia-com-mirar-una-obra-dart-.html
CLASS:PUBLIC
END:VEVENT
END:VCALENDAR
