BEGIN:VCALENDAR
VERSION:2.0
CALSCALE:GREGORIAN
PRODID:-//Diputació de Barcelona//DibaCMS//EN
BEGIN:VEVENT
UID:27360
DTSTAMP:20260421T074605
DTSTART:20250113T193000
DTEND:20250113T193000
SUMMARY:Actes de Sant Antoni Abat 2025 
LOCATION:Casino de Caldes 
METHOD:PUBLISH
X-WR-CALNAME:caldesm@caldesdemontbui.cat
X-WR-TIMEZONE:Europe/Madrid
DESCRIPTION:
URI:https://www.caldesdemontbui.cat/actualitat/agenda/actes-de-sant-antoni-abat-2025-.html
CLASS:PUBLIC
END:VEVENT
END:VCALENDAR
