BEGIN:VCALENDAR
VERSION:2.0
CALSCALE:GREGORIAN
PRODID:-//Diputació de Barcelona//DibaCMS//EN
BEGIN:VEVENT
UID:27331
DTSTAMP:20260420T214202
DTSTART:20250101T003000
DTEND:20250101T003000
SUMMARY:Nadal 24/25. Festa de cap d'any
LOCATION:Passatge Torre Roja, s/n 08140 Caldes de Montbui
METHOD:PUBLISH
X-WR-CALNAME:caldesm@caldesdemontbui.cat
X-WR-TIMEZONE:Europe/Madrid
DESCRIPTION:
URI:https://www.caldesdemontbui.cat/actualitat/agenda/nadal-2425-festa-de-cap-dany.html
CLASS:PUBLIC
END:VEVENT
END:VCALENDAR
