BEGIN:VCALENDAR
VERSION:2.0
CALSCALE:GREGORIAN
PRODID:-//Diputació de Barcelona//DibaCMS//EN
BEGIN:VEVENT
UID:27306
DTSTAMP:20260420T214512
DTSTART:20250117T200000
DTEND:20250117T200000
SUMMARY:Nadal 24/25. Escola de castells 
LOCATION:Local d’assaig dels Escaldats (c. General Padrós, 35) 
METHOD:PUBLISH
X-WR-CALNAME:caldesm@caldesdemontbui.cat
X-WR-TIMEZONE:Europe/Madrid
DESCRIPTION:
URI:https://www.caldesdemontbui.cat/actualitat/agenda/27306-nadal-2425-escola-de-castells-.html
CLASS:PUBLIC
END:VEVENT
END:VCALENDAR
