BEGIN:VCALENDAR
VERSION:2.0
CALSCALE:GREGORIAN
PRODID:-//Diputació de Barcelona//DibaCMS//EN
BEGIN:VEVENT
UID:27267
DTSTAMP:20260421T003540
DTSTART:20241229T183000
DTEND:20241229T183000
SUMMARY:Nadal 24/25. “Els pastorets”,  de Josep M. Folch i Torres
LOCATION:Casino de Caldes 
METHOD:PUBLISH
X-WR-CALNAME:caldesm@caldesdemontbui.cat
X-WR-TIMEZONE:Europe/Madrid
DESCRIPTION:
URI:https://www.caldesdemontbui.cat/actualitat/agenda/nadal-2425-els-pastorets-de-josep-m-folch-i-torres.html
CLASS:PUBLIC
END:VEVENT
END:VCALENDAR
